BEGIN:VCALENDAR
VERSION:2.0
PRODID:-//hfhdouglascounty.org//NONSGML kigkonsult.se iCalcreator 2.30.10//
CALSCALE:GREGORIAN
METHOD:PUBLISH
UID:d325a301-935d-4657-8a2e-a11c27c94df8
X-WR-CALDESC:
X-WR-RELCALID:93c8f30725a63af119fa6167b716ecce
X-WR-TIMEZONE:America/Chicago
BEGIN:VTIMEZONE
TZID:America/Chicago
BEGIN:STANDARD
TZNAME:CST
DTSTART:20241103T020000
TZOFFSETFROM:-0500
TZOFFSETTO:-0600
RDATE:20251102T020000
END:STANDARD
BEGIN:DAYLIGHT
TZNAME:CDT
DTSTART:20240310T020000
TZOFFSETFROM:-0600
TZOFFSETTO:-0500
RDATE:20250309T020000
RDATE:20260308T020000
END:DAYLIGHT
END:VTIMEZONE
BEGIN:VEVENT
UID:e9b77732-430e-4ed3-a830-0583d3c106e2
DTSTAMP:20260425T171312Z
DESCRIPTION:
DTSTART;TZID=America/Chicago:20241225T000000
DTEND;TZID=America/Chicago:20241225T235900
LOCATION:
SUMMARY:Christmas Day
END:VEVENT
END:VCALENDAR
