BEGIN:VCALENDAR
VERSION:2.0
PRODID:-//hfhdouglascounty.org//NONSGML kigkonsult.se iCalcreator 2.30.10//
CALSCALE:GREGORIAN
METHOD:PUBLISH
UID:797b6e43-da86-4179-84e4-14231bba7000
X-WR-CALDESC:
X-WR-RELCALID:58708b549d138211e3c91a95bf9cc55c
X-WR-TIMEZONE:America/Chicago
BEGIN:VTIMEZONE
TZID:America/Chicago
BEGIN:STANDARD
TZNAME:CST
DTSTART:20251102T020000
TZOFFSETFROM:-0500
TZOFFSETTO:-0600
RDATE:20261101T020000
END:STANDARD
BEGIN:DAYLIGHT
TZNAME:CDT
DTSTART:20250309T020000
TZOFFSETFROM:-0600
TZOFFSETTO:-0500
RDATE:20260308T020000
RDATE:20270314T020000
END:DAYLIGHT
END:VTIMEZONE
BEGIN:VEVENT
UID:ac1f4f23-731e-4692-a0cb-3beb88f008a3
DTSTAMP:20260424T201400Z
DESCRIPTION:
DTSTART;TZID=America/Chicago:20251225T000000
DTEND;TZID=America/Chicago:20251225T235900
LOCATION:
SUMMARY:Christmas Day
END:VEVENT
END:VCALENDAR
