BEGIN:VCALENDAR
VERSION:2.0
PRODID:-//hfhdouglascounty.org//NONSGML kigkonsult.se iCalcreator 2.30.10//
CALSCALE:GREGORIAN
METHOD:PUBLISH
UID:9dbf9f97-1a0a-41e4-b90b-dc220f473c9c
X-WR-CALDESC:
X-WR-RELCALID:73679da9cb1794d05483a1988346f001
X-WR-TIMEZONE:America/Chicago
BEGIN:VTIMEZONE
TZID:America/Chicago
BEGIN:STANDARD
TZNAME:CST
DTSTART:20261101T020000
TZOFFSETFROM:-0500
TZOFFSETTO:-0600
RDATE:20271107T020000
END:STANDARD
BEGIN:DAYLIGHT
TZNAME:CDT
DTSTART:20260308T020000
TZOFFSETFROM:-0600
TZOFFSETTO:-0500
RDATE:20270314T020000
RDATE:20280312T020000
END:DAYLIGHT
END:VTIMEZONE
BEGIN:VEVENT
UID:8486908b-87c3-4aa3-a5dc-41cbc5d9d0bd
DTSTAMP:20260425T034335Z
DESCRIPTION:
DTSTART;TZID=America/Chicago:20261225T000000
DTEND;TZID=America/Chicago:20261225T235900
LOCATION:
SUMMARY:Christmas Day
END:VEVENT
END:VCALENDAR
