BEGIN:VCALENDAR
VERSION:2.0
PRODID:-//hfhdouglascounty.org//NONSGML kigkonsult.se iCalcreator 2.30.10//
CALSCALE:GREGORIAN
METHOD:PUBLISH
UID:b3a7865e-16fc-4d08-92dd-9ea35eefa431
X-WR-CALDESC:
X-WR-RELCALID:6fee517db707b6137ddcaecc9f6de914
X-WR-TIMEZONE:America/Chicago
BEGIN:VTIMEZONE
TZID:America/Chicago
BEGIN:STANDARD
TZNAME:CST
DTSTART:20271107T020000
TZOFFSETFROM:-0500
TZOFFSETTO:-0600
RDATE:20281105T020000
END:STANDARD
BEGIN:DAYLIGHT
TZNAME:CDT
DTSTART:20270314T020000
TZOFFSETFROM:-0600
TZOFFSETTO:-0500
RDATE:20280312T020000
RDATE:20290311T020000
END:DAYLIGHT
END:VTIMEZONE
BEGIN:VEVENT
UID:d8d0daa0-3018-494d-bd5f-10527729e83c
DTSTAMP:20260425T232336Z
DESCRIPTION:
DTSTART;TZID=America/Chicago:20271225T000000
DTEND;TZID=America/Chicago:20271225T235900
LOCATION:
SUMMARY:Christmas Day
END:VEVENT
END:VCALENDAR
