BEGIN:VCALENDAR
VERSION:2.0
PRODID:-//hfhdouglascounty.org//NONSGML kigkonsult.se iCalcreator 2.30.10//
CALSCALE:GREGORIAN
METHOD:PUBLISH
UID:e5ff8554-1777-4fe6-b723-5f57437ef2d1
X-WR-CALDESC:
X-WR-RELCALID:7b838db9f6a9f7c25f2b4c0c1e44ae70
X-WR-TIMEZONE:America/Chicago
BEGIN:VTIMEZONE
TZID:America/Chicago
BEGIN:STANDARD
TZNAME:CST
DTSTART:20271107T020000
TZOFFSETFROM:-0500
TZOFFSETTO:-0600
RDATE:20281105T020000
END:STANDARD
BEGIN:DAYLIGHT
TZNAME:CDT
DTSTART:20270314T020000
TZOFFSETFROM:-0600
TZOFFSETTO:-0500
RDATE:20280312T020000
RDATE:20290311T020000
END:DAYLIGHT
END:VTIMEZONE
BEGIN:VEVENT
UID:338e4b76-35e1-4593-b03e-b0e068278344
DTSTAMP:20260426T024843Z
DESCRIPTION:
DTSTART;TZID=America/Chicago:20280211T000000
DTEND;TZID=America/Chicago:20280211T235900
LOCATION:
SUMMARY:Christmas Eve (Office Closed)
END:VEVENT
END:VCALENDAR
